BEGIN:VCALENDAR
VERSION:2.0
PRODID:-//Royal Canadian Slovak Legion Branch #129 - ECPv5.15.0//NONSGML v1.0//EN
CALSCALE:GREGORIAN
METHOD:PUBLISH
X-WR-CALNAME:Royal Canadian Slovak Legion Branch #129
X-ORIGINAL-URL:http://slovaklegion.com
X-WR-CALDESC:Events for Royal Canadian Slovak Legion Branch #129
BEGIN:VTIMEZONE
TZID:UTC
BEGIN:STANDARD
TZOFFSETFROM:+0000
TZOFFSETTO:+0000
TZNAME:UTC
DTSTART:20230101T000000
END:STANDARD
END:VTIMEZONE
BEGIN:VEVENT
DTSTART;TZID=UTC:20230417T193000
DTEND;TZID=UTC:20230417T210000
DTSTAMP:20260421T005559
CREATED:20230413T180200Z
LAST-MODIFIED:20230417T171108Z
UID:19250-1681759800-1681765200@slovaklegion.com
SUMMARY:CANCELLED Slovak Legion General Membership Meeting Monday April 17
DESCRIPTION:CANCELLED due to unsafe weather and driving conditions. \nThere will be a General Membership Meeting at the Slovak Legion on Monday April 17th. at 7:30 p.m.  We ask that all members please attend.
URL:http://slovaklegion.com/event/slovak-legion-general-membership-meeting-monday-april-17/
LOCATION:The Slovak Legion\, 801 Atlantic Ave\, Thunder Bay\, Ontario\, P7C 2T3\, Canada
CATEGORIES:Public
END:VEVENT
END:VCALENDAR