BEGIN:VCALENDAR
VERSION:2.0
PRODID:-//Royal Canadian Slovak Legion Branch #129 - ECPv5.15.0//NONSGML v1.0//EN
CALSCALE:GREGORIAN
METHOD:PUBLISH
X-WR-CALNAME:Royal Canadian Slovak Legion Branch #129
X-ORIGINAL-URL:http://slovaklegion.com
X-WR-CALDESC:Events for Royal Canadian Slovak Legion Branch #129
BEGIN:VTIMEZONE
TZID:UTC
BEGIN:STANDARD
TZOFFSETFROM:+0000
TZOFFSETTO:+0000
TZNAME:UTC
DTSTART:20220101T000000
END:STANDARD
END:VTIMEZONE
BEGIN:VEVENT
DTSTART;TZID=UTC:20221219T193000
DTEND;TZID=UTC:20221219T210000
DTSTAMP:20260420T155904
CREATED:20221211T222313Z
LAST-MODIFIED:20221212T204633Z
UID:19023-1671478200-1671483600@slovaklegion.com
SUMMARY:CANCELLED Slovak Legion General Membership Meeting Mon December 19
DESCRIPTION:Monday December 19\, 2022\n\n\nSlovak Legion General Membership Meeting CANCELLED
URL:http://slovaklegion.com/event/slovak-legion-general-membership-meeting-mon-december-19-at-730pm/
LOCATION:The Slovak Legion\, 801 Atlantic Ave\, Thunder Bay\, Ontario\, P7C 2T3\, Canada
CATEGORIES:Public
END:VEVENT
END:VCALENDAR