BEGIN:VCALENDAR
VERSION:2.0
PRODID:-//Royal Canadian Slovak Legion Branch #129 - ECPv5.15.0//NONSGML v1.0//EN
CALSCALE:GREGORIAN
METHOD:PUBLISH
X-WR-CALNAME:Royal Canadian Slovak Legion Branch #129
X-ORIGINAL-URL:http://slovaklegion.com
X-WR-CALDESC:Events for Royal Canadian Slovak Legion Branch #129
BEGIN:VTIMEZONE
TZID:UTC
BEGIN:STANDARD
TZOFFSETFROM:+0000
TZOFFSETTO:+0000
TZNAME:UTC
DTSTART:20210101T000000
END:STANDARD
END:VTIMEZONE
BEGIN:VEVENT
DTSTART;TZID=UTC:20210530T120000
DTEND;TZID=UTC:20210530T170000
DTSTAMP:20260421T125332
CREATED:20200827T165101Z
LAST-MODIFIED:20210530T170348Z
UID:17349-1622376000-1622394000@slovaklegion.com
SUMMARY:Slovak Legion Fish Dinner Selections Takeout or *Curbside Pickup May 30
DESCRIPTION:Slovak Legion Fish Dinner Selections\nTAKEOUT or *Curbside Pickup\nSunday May 30\, 2021 12pm to 5pm\n\n\nThe Slovak Legion is pleased to offer our popular Fish Dinner choices. We thank everyone who comes out to support us while enjoying some great food.\nWe practise Social Distancing and thank you in advance. We appreciate your support.\n\nTake Out or *Curbside Pickup MENU\n\nBattered Haddock (one large piece)\nFresh Cut Fries Coleslaw\nPrice $18 tax included\n\n2 Piece Haddock Fish Dinner with Fresh Cut Fries & Coleslaw\nPrice $28 tax included\n\nKids Meal*\n$9 tax included\n*Pollock is the fish for the Kids Meal (no substitutions)\n\nGravy $1\n\n* A few delicious extras WHILE SUPPLIES LAST\n\n*6 battered Shrimp with lemon wedge and cocktail sauce $10\n\n*Dessert $4\n\nTakeout: Please enter by Bar Door\, Cash\, Debit\, and Credit Card payment accepted. Social Distancing enforced. Thank you.\n\n*Curbside Pickup: Phone 623-3354 Ext 1 or 2 Sunday between 11am and 4pm\, pay by credit card\, arrange a time\, pick up order at Slovak Legion Main Door under carport. Thank you. (If preferred. leave messages all week & we will return your calls.)\n\nThank you for supporting the Slovak Legion.\n\nSlovak Legion 623-3354 Ext 1 or 2\n801 Atlantic Avenue Thunder Bay\nSlovak Legion just over the Pacific bridge to your left or use the Main Street Bridge to avoid construction.\n\nAlternative Directions to the Slovak Legion 801 Atlantic Avenue using Main Street Bridge\n(To avoid using the East End Bridge during City Repair Work or to avoid the Construction work around Pacific Avenue and Simpson Street. you can use the Main Street Bridge)\n1 Go to the corner of the Harbour Expressway and Fort William Road and proceed down Main Street over the Main Street Bridge.\n2 Go to the end and turn turn right onto 110th Ave/Island Dr.\n3 Watch for the Slovak Legion sign and turn. Your delicious Curbside and Takeout are waiting for you.
URL:http://slovaklegion.com/event/slovak-legion-fish-dinner-selections-takeout-or-curbside-pickup/
LOCATION:The Slovak Legion\, 801 Atlantic Ave\, Thunder Bay\, Ontario\, P7C 2T3\, Canada
CATEGORIES:Public
END:VEVENT
END:VCALENDAR