BEGIN:VCALENDAR
VERSION:2.0
PRODID:-//Royal Canadian Slovak Legion Branch #129 - ECPv5.15.0//NONSGML v1.0//EN
CALSCALE:GREGORIAN
METHOD:PUBLISH
X-WR-CALNAME:Royal Canadian Slovak Legion Branch #129
X-ORIGINAL-URL:http://slovaklegion.com
X-WR-CALDESC:Events for Royal Canadian Slovak Legion Branch #129
BEGIN:VTIMEZONE
TZID:UTC
BEGIN:STANDARD
TZOFFSETFROM:+0000
TZOFFSETTO:+0000
TZNAME:UTC
DTSTART:20210101T000000
END:STANDARD
END:VTIMEZONE
BEGIN:VEVENT
DTSTART;TZID=UTC:20210228T120000
DTEND;TZID=UTC:20210228T120000
DTSTAMP:20260420T141007
CREATED:20210105T054155Z
LAST-MODIFIED:20210128T200025Z
UID:17627-1614513600-1614513600@slovaklegion.com
SUMMARY:Slovak Legion Delicious Roast Beef Dinner TAKEOUT or *Curbside Pickup Feb 28
DESCRIPTION:Slovak Legion Delicious Roast Beef Dinner\nTAKEOUT or *Curbside Pickup\nSunday February 28\, 2021 12pm to 5pm\n\nTake Out or *Curbside Pickup MENU\nMenu\nGenerous portion of Roast Beef\nReal mashed potatoes\nGravy\nMixed Vegetables\nDinner Roll\n(Optional Horseradish)\n$20 tax included\n\nAlso for Sale\nPerogies $6 a dozen\n\nWhile supplies last\nHomemade Cheesecake $4\n\nTakeout: Please enter by Bar Door\, Cash\, Debit\, and Credit Card payment accepted. Social Distancing enforced. Thank you.\n\n*Curbside Pickup Phone 623-3354 Ext 2 Sunday between 11am and 4pm\, pay by credit card\, arrange a time\, pick up order at Slovak Legion Main Door under carport. Thank you. (If preferred leave messages all week & we will return your calls.)\n\nWe thank everyone who comes out to support us while enjoying some great food.\nWe practise Social Distancing and thank you in advance. We appreciate your support. We supply containers following Health Unit COVID Guidelines…no bring in pots.\n\nSlovak Legion 623-3354 Ext 2\n801 Atlantic Avenue Thunder Bay\nJust over the Pacific bridge to your left or use the Main Street Bridge.\n\nAlternative Directions to the Slovak Legion 801 Atlantic Avenue using Main Street Bridge\n1 Go to the corner of the Harbour Expressway and Fort William Road and proceed down Main Street over the Main Street Bridge.\n2 Go to the end and turn turn right onto 110th Ave/Island Dr.\n3 Watch for the Slovak Legion sign and turn. Your delicious Curbside and Takeout are waiting for you.
URL:http://slovaklegion.com/event/slovak-legion-delicious-roast-beef-dinner-takeout-or-curbside-pickup-feb-28/
LOCATION:The Slovak Legion\, 801 Atlantic Ave\, Thunder Bay\, Ontario\, P7C 2T3\, Canada
CATEGORIES:Public
END:VEVENT
END:VCALENDAR