BEGIN:VCALENDAR
VERSION:2.0
PRODID:-//Royal Canadian Slovak Legion Branch #129 - ECPv5.15.0//NONSGML v1.0//EN
CALSCALE:GREGORIAN
METHOD:PUBLISH
X-WR-CALNAME:Royal Canadian Slovak Legion Branch #129
X-ORIGINAL-URL:http://slovaklegion.com
X-WR-CALDESC:Events for Royal Canadian Slovak Legion Branch #129
BEGIN:VTIMEZONE
TZID:UTC
BEGIN:STANDARD
TZOFFSETFROM:+0000
TZOFFSETTO:+0000
TZNAME:UTC
DTSTART:20200101T000000
END:STANDARD
END:VTIMEZONE
BEGIN:VEVENT
DTSTART;TZID=UTC:20201207T090000
DTEND;TZID=UTC:20201211T120000
DTSTAMP:20260420T221051
CREATED:20191121T003831Z
LAST-MODIFIED:20201209T044849Z
UID:15560-1607331600-1607688000@slovaklegion.com
SUMMARY:Slovak Legion Christmas Cabbage Roll & Perogie Orders Being Taken
DESCRIPTION:Christmas Cabbage Roll and Perogie Orders are now being taken by the Slovak Legion Branch 129. Perfect for your Holiday Celebrations or just great food to share. \nPlace your order from Monday December 7 to Friday December 18.  Please phone 623-3354 Ext. 1 or 2 to place your order from Monday to Friday 9am to noon.  If no answer\, please leave a message and we will get back to you. \nPick up date is on Wednesday December 23\, 2020 between 9am and 1pm. \nPick up is at the Slovak Legion…Just over the bridge! Thank you for your support.
URL:http://slovaklegion.com/event/slovak-legion-christmas-cabbage-roll-perogie-orders-being-taken-2020-12-07/2020-12-07/
LOCATION:The Slovak Legion\, 801 Atlantic Ave\, Thunder Bay\, Ontario\, P7C 2T3\, Canada
CATEGORIES:Public
END:VEVENT
END:VCALENDAR