BEGIN:VCALENDAR
VERSION:2.0
PRODID:-//Royal Canadian Slovak Legion Branch #129 - ECPv5.15.0//NONSGML v1.0//EN
CALSCALE:GREGORIAN
METHOD:PUBLISH
X-WR-CALNAME:Royal Canadian Slovak Legion Branch #129
X-ORIGINAL-URL:http://slovaklegion.com
X-WR-CALDESC:Events for Royal Canadian Slovak Legion Branch #129
BEGIN:VTIMEZONE
TZID:UTC
BEGIN:STANDARD
TZOFFSETFROM:+0000
TZOFFSETTO:+0000
TZNAME:UTC
DTSTART:20210101T000000
END:STANDARD
END:VTIMEZONE
BEGIN:VEVENT
DTSTART;TZID=UTC:20210314T120000
DTEND;TZID=UTC:20210314T170000
DTSTAMP:20260420T203314
CREATED:20210301T170528Z
LAST-MODIFIED:20210301T173210Z
UID:17694-1615723200-1615741200@slovaklegion.com
SUMMARY:Slovak Legion Chicken Parmesan Dinner Takeout/Curbside Pickup March 14
DESCRIPTION:Slovak Legion Chicken Parmesan Dinner\nTAKEOUT or *Curbside Pickup\nSunday March 14\, 2021 12pm to 5pm \n \nWe are here for our community and thank everyone who comes out to support us while enjoying some great food. \nWe practise Social Distancing and thank you in advance. We appreciate your support. \nTake Out or *Curbside Pickup MENU \nMenu\nChicken Parmesan\nPenne Pasta\nCaesar Salad\nGarlic Toast\n$15 tax included \nAlso for Sale\nPerogies $6 a dozen \nWhile supplies last\nHomemade Cheesecake or Apple Pie $4 \nTakeout: Please enter by Bar Door\, Cash\, Debit\, and Credit Card payment accepted. Social Distancing enforced. Leave by Solarium Door. Thank you. \n*Curbside Pickup Phone 623-3354 Ext 2 Sunday between 11am and 4pm\, pay by credit card\, arrange a time\, pick up order at Slovak Legion Main Door under carport. Thank you. (If preferred leave messages all week & we will return your calls.) \nSlovak Legion 623-3354 Ext 2\n801 Atlantic Avenue Thunder Bay \nJust over the Pacific bridge to your left or use the Main Street Bridge. \nAlternative Directions to the Slovak Legion 801 Atlantic Avenue using Main Street Bridge\n1 Go to the corner of the Harbour Expressway and Fort William Road and proceed down Main Street over the Main Street Bridge.\n2 Go to the end and turn turn right onto 110th Ave/Island Dr.\n3 Watch for the Slovak Legion sign and turn. Your delicious Curbside and Takeout are waiting for you.
URL:http://slovaklegion.com/event/slovak-legion-chicken-parmesan-dinner-takeout-curbside-pickup-march-14/
LOCATION:The Slovak Legion\, 801 Atlantic Ave\, Thunder Bay\, Ontario\, P7C 2T3\, Canada
CATEGORIES:Public
END:VEVENT
END:VCALENDAR