BEGIN:VCALENDAR
VERSION:2.0
PRODID:-//Royal Canadian Slovak Legion Branch #129 - ECPv5.15.0//NONSGML v1.0//EN
CALSCALE:GREGORIAN
METHOD:PUBLISH
X-WR-CALNAME:Royal Canadian Slovak Legion Branch #129
X-ORIGINAL-URL:http://slovaklegion.com
X-WR-CALDESC:Events for Royal Canadian Slovak Legion Branch #129
BEGIN:VTIMEZONE
TZID:UTC
BEGIN:STANDARD
TZOFFSETFROM:+0000
TZOFFSETTO:+0000
TZNAME:UTC
DTSTART:20200101T000000
END:STANDARD
END:VTIMEZONE
BEGIN:VEVENT
DTSTART;TZID=UTC:20201108T120000
DTEND;TZID=UTC:20201108T170000
DTSTAMP:20260421T204103
CREATED:20200926T023140Z
LAST-MODIFIED:20200926T025559Z
UID:17415-1604836800-1604854800@slovaklegion.com
SUMMARY:Slovak Legion Chef Carmine's Homemade Lasagna Dinner  Takeout or *Curbside Pickup Nov 8
DESCRIPTION:Slovak Legion Chef Carmine’s Homemade Lasagna Dinner\nTAKEOUT or *Curbside Pickup\nSunday November 8\, 2020 12pm to 5pm\n\nEnjoy Chef Carmine’s Homemade Lasagna Dinner at the Slovak Legion\nTake Out or *Curbside Pickup MENU\n\nCarmine’s Homemade Lasagna Dinner\nCaesar Salad\nGarlic Toast\n$15 tax included\n\nPerogies for sale $6 a dozen\nWhile supplies last\n10 Meatballs $12\nLitre of Sauce $11\nDessert $4\nSlovak Cabbage Rolls with Meat $12 a dozen\n\nTakeout: Please enter by Bar Door\, Cash\, Debit\, and Credit Card payment accepted. Social Distancing enforced. Leave by Solarium Door. Thank you.\n\n*Curbside Pickup Pre-orders: Phone 623-3354 Ext 2 Sunday between 11am and 4pm\, pay by credit card\, arrange a time\, pick up order at Slovak Legion Main Door under carport. Thank you. (If preferred  leave messages all week & we will return your calls.)\n\nCurbside Pickup runs from 12 noon to 5pm.\nTakeout also runs from 12 noon to 5pm.\n\nWe are here for our community and thank everyone who comes out to support us while enjoying some great food.\nWe practise Social Distancing and thank you in advance. We appreciate your support.\n\nSlovak Legion 623-3354 Ext 2\n801 Atlantic Avenue\nThunder Bay P7C 2T3\nJust over the Pacific bridge to your left or use the Main Street Bridge.Alternative Directions to the Slovak Legion 801 Atlantic Avenue using Main Street Bridge\n1 Go to the corner of the Harbour Expressway and Fort William Road and proceed down Main Street over the Main Street Bridge.\n2 Go to the end and turn turn right onto 110th Ave/Island Dr.\n3 Watch for the Slovak Legion sign and turn. Your delicious Curbside and Takeout are waiting for you.
URL:http://slovaklegion.com/event/slovak-legion-chef-carmines-homemade-lasagna-dinner-nov-8/
LOCATION:The Slovak Legion\, 801 Atlantic Ave\, Thunder Bay\, Ontario\, P7C 2T3\, Canada
CATEGORIES:Public
END:VEVENT
END:VCALENDAR