BEGIN:VCALENDAR
VERSION:2.0
PRODID:-//Royal Canadian Slovak Legion Branch #129 - ECPv5.15.0//NONSGML v1.0//EN
CALSCALE:GREGORIAN
METHOD:PUBLISH
X-WR-CALNAME:Royal Canadian Slovak Legion Branch #129
X-ORIGINAL-URL:http://slovaklegion.com
X-WR-CALDESC:Events for Royal Canadian Slovak Legion Branch #129
BEGIN:VTIMEZONE
TZID:UTC
BEGIN:STANDARD
TZOFFSETFROM:+0000
TZOFFSETTO:+0000
TZNAME:UTC
DTSTART:20230101T000000
END:STANDARD
END:VTIMEZONE
BEGIN:VEVENT
DTSTART;TZID=UTC:20230420T180000
DTEND;TZID=UTC:20230420T210000
DTSTAMP:20260421T023207
CREATED:20230413T051236Z
LAST-MODIFIED:20230418T181043Z
UID:19242-1682013600-1682024400@slovaklegion.com
SUMMARY:Slovak Legion Catch the Ace Lottery Thursdays
DESCRIPTION:The Slovak Legion Catch the Ace Draw Thursdays  in our Bar & Slovak Legion East End Bar & Restaurant. \nThe Slovak Legion Catch The Ace progressive draw with a minimum “Guaranteed”payout of $1\,000.00 if the you “Catch the Ace”. Ticket sales from 6:00 p.m. to 8:00 p.m. with the draw at 8:30 p.m. Licence M861313. We will\nalso have a 50/50 draw at that time. Licence M861305. \n\nHope to see you out!\n\n\nEnjoy Supper at the Bar as well!\n\n\nWe could not continue this great fundraiser for our leaking roof without your support. Thank you very much.\n\n\nPoster Lottery numbers being updated.
URL:http://slovaklegion.com/event/slovak-legion-catch-the-ace-lottery-thursdays-29/
LOCATION:The Slovak Legion\, 801 Atlantic Ave\, Thunder Bay\, Ontario\, P7C 2T3\, Canada
CATEGORIES:Public
END:VEVENT
END:VCALENDAR