BEGIN:VCALENDAR
VERSION:2.0
PRODID:-//Royal Canadian Slovak Legion Branch #129 - ECPv5.15.0//NONSGML v1.0//EN
CALSCALE:GREGORIAN
METHOD:PUBLISH
X-WR-CALNAME:Royal Canadian Slovak Legion Branch #129
X-ORIGINAL-URL:http://slovaklegion.com
X-WR-CALDESC:Events for Royal Canadian Slovak Legion Branch #129
BEGIN:VTIMEZONE
TZID:UTC
BEGIN:STANDARD
TZOFFSETFROM:+0000
TZOFFSETTO:+0000
TZNAME:UTC
DTSTART:20210101T000000
END:STANDARD
END:VTIMEZONE
BEGIN:VEVENT
DTSTART;TZID=UTC:20210930T180000
DTEND;TZID=UTC:20210930T210000
DTSTAMP:20260420T165435
CREATED:20210928T012605Z
LAST-MODIFIED:20210928T015037Z
UID:18073-1633024800-1633035600@slovaklegion.com
SUMMARY:Slovak Legion "Catch the Ace Lottery" Thursdays
DESCRIPTION:Slovak Legion “CATCH THE ACE” Draw Thursday September 30 Progressive $2404.50\n\n\n(Our Bar is open to serve your food as well.)\n\nWith the new Ontario Stage 3 Covid Guidelines in place\, we are able to resume our “Catch the Ace” Draw. The Slovak Legion Catch The Ace Progressive Draw continues in the Bar with its Progressive Jackpot Thursday September 30. Ticket sales from 6:00 p.m. to 8:00 p.m. and draw is at 8:30 p.m. Food will be available. Licence M835456. A 50/50 Draw will also be held every Thursday Licence Number M835598. Hope to see you out!
URL:http://slovaklegion.com/event/slovak-legion-catch-the-ace-lottery-thursdays-2/
LOCATION:The Slovak Legion\, 801 Atlantic Ave\, Thunder Bay\, Ontario\, P7C 2T3\, Canada
CATEGORIES:Public
END:VEVENT
END:VCALENDAR