BEGIN:VCALENDAR
VERSION:2.0
PRODID:-//Royal Canadian Slovak Legion Branch #129 - ECPv5.15.0//NONSGML v1.0//EN
CALSCALE:GREGORIAN
METHOD:PUBLISH
X-WR-CALNAME:Royal Canadian Slovak Legion Branch #129
X-ORIGINAL-URL:http://slovaklegion.com
X-WR-CALDESC:Events for Royal Canadian Slovak Legion Branch #129
BEGIN:VTIMEZONE
TZID:UTC
BEGIN:STANDARD
TZOFFSETFROM:+0000
TZOFFSETTO:+0000
TZNAME:UTC
DTSTART:20200101T000000
END:STANDARD
END:VTIMEZONE
BEGIN:VEVENT
DTSTART;TZID=UTC:20201018T120000
DTEND;TZID=UTC:20201018T170000
DTSTAMP:20260421T220834
CREATED:20200926T022325Z
LAST-MODIFIED:20201007T031543Z
UID:17410-1603022400-1603040400@slovaklegion.com
SUMMARY:Slovak Legion "Beef on a Bun Au Jus"  Takeout or *Curbside Pickup October 18
DESCRIPTION:Slovak Legion “Beef on a Bun Au Jus”\nTAKEOUT or *Curbside Pickup\nSunday October 18\, 2020 12pm to 5pm \n \nEnjoy Chef Carmine’s “Beef on a Bun Au Jus” at the Slovak Legion. \nTake Out or *Curbside Pickup MENU \nMenu Option 1\nCarmine’s “Beef on a Bun Au Jus” (1)\nFreshly made Coleslaw & Potato Salad\n$15 Tax included\n(No Substitutions)\n\nMenu Option 2\nCarmine’s “Beef on a Bun Au Jus” (2)\nwith an order of\nFreshly made Coleslaw & Potato Salad\n$25 Tax included\n(No Substitutions)\nSides\nFresh Cut Fries $4\nGravy $1 \nAlso for Sale\nPerogies $6 a dozen \nWhile quantities last\nHomemade Cherry Cheesecake or Apple Pie $4 \nTakeout: Please enter by Bar Door\, Cash\, Debit\, and Credit Card payment accepted. Social Distancing enforced. Leave by Solarium Door. Thank you. \n*Curbside Pickup Pre-orders: Phone 623-3354 Ext 2 Sunday between 11am and 4pm\, pay by credit card\, arrange a time\, pick up order at Slovak Legion Main Door under carport. (If preferred leave messages all week & we will return your calls.) \nCurbside Pickup runs from 12 noon to 5pm.\nTakeout also runs from 12 noon to 5pm. \nWe are here for our community and thank everyone who comes out to support us while enjoying some great food.\nWe practise Social Distancing and thank you in advance. We appreciate your support. \nSlovak Legion 623-3354 Ext 2\n801 Atlantic Avenue Thunder Bay P7C 2T3\nJust over the Pacific bridge to your left or use the Main Street Bridge. \nAlternative Directions to the Slovak Legion 801 Atlantic Avenue using Main Street Bridge\n1 Go to the corner of the Harbour Expressway and Fort William Road and proceed down Main Street over the Main Street Bridge.\n2 Go to the end and turn turn right onto 110th Ave/Island Dr.\n3 Watch for the Slovak Legion sign and turn. Your delicious Curbside and Takeout are waiting for you.
URL:http://slovaklegion.com/event/slovak-legion-beef-on-a-bun-au-jus-october-18/
LOCATION:The Slovak Legion\, 801 Atlantic Ave\, Thunder Bay\, Ontario\, P7C 2T3\, Canada
CATEGORIES:Public
END:VEVENT
END:VCALENDAR