BEGIN:VCALENDAR
VERSION:2.0
PRODID:-//Royal Canadian Slovak Legion Branch #129 - ECPv5.15.0//NONSGML v1.0//EN
CALSCALE:GREGORIAN
METHOD:PUBLISH
X-WR-CALNAME:Royal Canadian Slovak Legion Branch #129
X-ORIGINAL-URL:http://slovaklegion.com
X-WR-CALDESC:Events for Royal Canadian Slovak Legion Branch #129
BEGIN:VTIMEZONE
TZID:UTC
BEGIN:STANDARD
TZOFFSETFROM:+0000
TZOFFSETTO:+0000
TZNAME:UTC
DTSTART:20200101T000000
END:STANDARD
END:VTIMEZONE
BEGIN:VEVENT
DTSTART;TZID=UTC:20200816T120000
DTEND;TZID=UTC:20200816T170000
DTSTAMP:20260421T004754
CREATED:20200725T214106Z
LAST-MODIFIED:20200725T214217Z
UID:17284-1597579200-1597597200@slovaklegion.com
SUMMARY:Slovak Legion Perogie & Spaghetti Takeout and *Curbside Pickup Aug 16
DESCRIPTION:Sunday August 16 we are offering Takeout OR *Curbside Pickup for our Perogie & Spaghetti Takeouts at the Slovak Legion. \nThis Sunday and every Sunday the Slovak Legion will try to serve our community. We will be following New Health Regulations. We have our Chef and as long as our volunteers support this endeavour we will continue. \nPerogies by the Dozen and/or Spaghetti Takeout OR *Curbside Pickup  \nSunday August 16 from 12 to 5pm Menu \nPerogies by the Dozen $6 \nSpaghetti & 5 meatballs $12 \nRavioli & 3 meatballs $13 \n10 Meatballs $12 \nLitre of Sauce $11 \nGluten free available for $14 per order…MUST pre-order by calling 623-3354 \nWhile supplies last \nSlovak Cabbage Rolls with Meat $12 a dozen  \nWe must supply containers because of New Health Rules during these times and they will be free. You cannot bring your own pots following New Health Rules during these times. \nTakeout: Please enter by Bar Door\, Cash\, Debit\, and Credit Card payment accepted. Social Distancing enforced. Leave by Solarium Door. Thank you. \n*Curbside Pickup: Phone 623-3354 Ext 2 Sunday from 11am to 4pm to pre-order\, arrange a time\, pick up order at the Slovak Legion Main Door under the carport. \nTakeout and Pickup Times run from 12 to 5pm \nThank you for supporting the Slovak Legion. Just over the bridge.
URL:http://slovaklegion.com/event/perogie-spaghetti-takeout-and-curbside-pickup-aug-16/
LOCATION:The Slovak Legion\, 801 Atlantic Ave\, Thunder Bay\, Ontario\, P7C 2T3\, Canada
CATEGORIES:Public
END:VEVENT
END:VCALENDAR