BEGIN:VCALENDAR
VERSION:2.0
PRODID:-//Royal Canadian Slovak Legion Branch #129 - ECPv5.15.0//NONSGML v1.0//EN
CALSCALE:GREGORIAN
METHOD:PUBLISH
X-WR-CALNAME:Royal Canadian Slovak Legion Branch #129
X-ORIGINAL-URL:http://slovaklegion.com
X-WR-CALDESC:Events for Royal Canadian Slovak Legion Branch #129
BEGIN:VTIMEZONE
TZID:UTC
BEGIN:STANDARD
TZOFFSETFROM:+0000
TZOFFSETTO:+0000
TZNAME:UTC
DTSTART:20200101T000000
END:STANDARD
END:VTIMEZONE
BEGIN:VEVENT
DTSTART;TZID=UTC:20201210T180000
DTEND;TZID=UTC:20201210T210000
DTSTAMP:20260420T190214
CREATED:20201208T164318Z
LAST-MODIFIED:20210817T164751Z
UID:17586-1607623200-1607634000@slovaklegion.com
SUMMARY:"Catch the Ace Lottery" at the Slovak Thursdays
DESCRIPTION:Slovak Legion Catch The Ace progressive draw in the Bar.  Ticket sales from 6:00 p.m. to 8:00 p.m. and draw is at 8:30 p.m.  Food will be available.  Licence M835456.
URL:http://slovaklegion.com/event/catch-the-ace-at-the-slovak-thursdays/2020-12-10/
LOCATION:The Slovak Legion\, 801 Atlantic Ave\, Thunder Bay\, Ontario\, P7C 2T3\, Canada
CATEGORIES:Public
END:VEVENT
END:VCALENDAR