BEGIN:VCALENDAR
VERSION:2.0
PRODID:-//Royal Canadian Slovak Legion Branch #129 - ECPv5.15.0//NONSGML v1.0//EN
CALSCALE:GREGORIAN
METHOD:PUBLISH
X-WR-CALNAME:Royal Canadian Slovak Legion Branch #129
X-ORIGINAL-URL:http://slovaklegion.com
X-WR-CALDESC:Events for Royal Canadian Slovak Legion Branch #129
BEGIN:VTIMEZONE
TZID:UTC
BEGIN:STANDARD
TZOFFSETFROM:+0000
TZOFFSETTO:+0000
TZNAME:UTC
DTSTART:20200101T000000
END:STANDARD
END:VTIMEZONE
BEGIN:VEVENT
DTSTART;TZID=UTC:20201204T110000
DTEND;TZID=UTC:20201204T210000
DTSTAMP:20260420T234152
CREATED:20201202T211751Z
LAST-MODIFIED:20201209T045241Z
UID:17574-1607079600-1607115600@slovaklegion.com
SUMMARY:Slovak Legion Lunch Buffet
DESCRIPTION:Fridays\n\n\nSlovak Legion Lunch Buffet – from 11:30 a.m. to 1:30 p.m. Due to COVID\, our staff will put the food on your plate for you cafeteria style. Bar restaurant will open at 5:00 p.m.
URL:http://slovaklegion.com/event/cafeteria-style-luncheon/
LOCATION:The Slovak Legion\, 801 Atlantic Ave\, Thunder Bay\, Ontario\, P7C 2T3\, Canada
CATEGORIES:Public
END:VEVENT
END:VCALENDAR