BEGIN:VCALENDAR
VERSION:2.0
PRODID:-//Royal Canadian Slovak Legion Branch #129 - ECPv5.15.0//NONSGML v1.0//EN
CALSCALE:GREGORIAN
METHOD:PUBLISH
X-WR-CALNAME:Royal Canadian Slovak Legion Branch #129
X-ORIGINAL-URL:http://slovaklegion.com
X-WR-CALDESC:Events for Royal Canadian Slovak Legion Branch #129
BEGIN:VTIMEZONE
TZID:UTC
BEGIN:STANDARD
TZOFFSETFROM:+0000
TZOFFSETTO:+0000
TZNAME:UTC
DTSTART:20200101T000000
END:STANDARD
END:VTIMEZONE
BEGIN:VEVENT
DTSTART;TZID=UTC:20200829T123000
DTEND;TZID=UTC:20200829T123000
DTSTAMP:20260421T061848
CREATED:20200810T183344Z
LAST-MODIFIED:20200829T161534Z
UID:17321-1598704200-1598704200@slovaklegion.com
SUMMARY:Alternative Directions to the Slovak Legion 801 Atlantic Avenue using Main Street Bridge
DESCRIPTION:Alternative Directions to the Slovak Legion 801 Atlantic Avenue using the Main Street Bridge to come to the Slovak Legion or for our Sunday Takeouts and Curbside Pickups. \n\nTo avoid using the East End Bridge during City Repair Work or to avoid the Construction work from Northern to Pacific Avenue on Simpson. you can use the Main Street Bridge.\n\n\nGo to the corner of the Harbour Expressway and Fort William Road and proceed down Main Street over the Main Street Bridge.\nGo to the end and turn turn right onto 110th Ave/Island Dr.\nWatch for the Slovak Legion sign and turn. Your delicious Curbside and Takeout are waiting for you.
URL:http://slovaklegion.com/event/alternative-directions-to-the-slovak-legion-801-atlantic-avenue-using-main-street-bridge/
LOCATION:The Slovak Legion\, 801 Atlantic Ave\, Thunder Bay\, Ontario\, P7C 2T3\, Canada
CATEGORIES:Public
END:VEVENT
END:VCALENDAR