BEGIN:VCALENDAR
VERSION:2.0
PRODID:-//Royal Canadian Slovak Legion Branch #129 - ECPv5.15.0//NONSGML v1.0//EN
CALSCALE:GREGORIAN
METHOD:PUBLISH
X-WR-CALNAME:Royal Canadian Slovak Legion Branch #129
X-ORIGINAL-URL:http://slovaklegion.com
X-WR-CALDESC:Events for Royal Canadian Slovak Legion Branch #129
BEGIN:VTIMEZONE
TZID:UTC
BEGIN:STANDARD
TZOFFSETFROM:+0000
TZOFFSETTO:+0000
TZNAME:UTC
DTSTART:20210101T000000
END:STANDARD
END:VTIMEZONE
BEGIN:VEVENT
DTSTART;TZID=UTC:20210308T090000
DTEND;TZID=UTC:20210312T120000
DTSTAMP:20260420T190246
CREATED:20210301T172121Z
LAST-MODIFIED:20210301T172335Z
UID:17703-1615194000-1615550400@slovaklegion.com
SUMMARY:Slovak Legion Easter Cabbage Rolls/Perogie Orders
DESCRIPTION:Easter Cabbage Roll and Perogie Orders are being taken by The Slovak Legion Branch 129. Perfect for Easter Celebrations or just great food to share. \nPlease phone 623-3354 Ext. 1 or 2 Monday to Friday between 9:00am and noon to place orders. \nSlovak Cabbage Rolls with Meat $12 a dozen Tax Included\nPerogies $6 a dozen Tax Included \nLast date to order is Friday March 26 for pick up on Thursday April 1\, 2021 between 9:00am and 1:00pm. \nPick up at the Slovak Legion at 801 Atlantic Avenue…just over the Pacific Avenue Bridge. You can also reach us using the Main Street Bridge. \n 
URL:http://slovaklegion.com/event/17703/
LOCATION:The Slovak Legion\, 801 Atlantic Ave\, Thunder Bay\, Ontario\, P7C 2T3\, Canada
CATEGORIES:Public
END:VEVENT
END:VCALENDAR