BEGIN:VCALENDAR
VERSION:2.0
PRODID:-//Royal Canadian Slovak Legion Branch #129 - ECPv5.15.0//NONSGML v1.0//EN
CALSCALE:GREGORIAN
METHOD:PUBLISH
X-WR-CALNAME:Royal Canadian Slovak Legion Branch #129
X-ORIGINAL-URL:http://slovaklegion.com
X-WR-CALDESC:Events for Royal Canadian Slovak Legion Branch #129
BEGIN:VTIMEZONE
TZID:UTC
BEGIN:STANDARD
TZOFFSETFROM:+0000
TZOFFSETTO:+0000
TZNAME:UTC
DTSTART:20230101T000000
END:STANDARD
END:VTIMEZONE
BEGIN:VEVENT
DTSTART;TZID=UTC:20230330T113000
DTEND;TZID=UTC:20230331T133000
DTSTAMP:20260420T071229
CREATED:20230326T170839Z
LAST-MODIFIED:20230326T170943Z
UID:19214-1680175800-1680269400@slovaklegion.com
SUMMARY:Slovak Legion Lunch Buffets Thursdays and Friday 11:30am to 1:30pm
DESCRIPTION:Looking for a hot\, delicious & ready to go lunch?? Join us every Thursday & Friday at the Slovak Legion for our Lunch Buffet.
URL:http://slovaklegion.com/event/slovak-legion-lunch-buffets-thursdays-and-friday-1130am-to-130pm/
LOCATION:The Slovak Legion\, 801 Atlantic Ave\, Thunder Bay\, Ontario\, P7C 2T3\, Canada
CATEGORIES:Public
END:VEVENT
END:VCALENDAR