BEGIN:VCALENDAR
VERSION:2.0
PRODID:-//Royal Canadian Slovak Legion Branch #129 - ECPv5.15.0//NONSGML v1.0//EN
CALSCALE:GREGORIAN
METHOD:PUBLISH
X-WR-CALNAME:Royal Canadian Slovak Legion Branch #129
X-ORIGINAL-URL:http://slovaklegion.com
X-WR-CALDESC:Events for Royal Canadian Slovak Legion Branch #129
BEGIN:VTIMEZONE
TZID:UTC
BEGIN:STANDARD
TZOFFSETFROM:+0000
TZOFFSETTO:+0000
TZNAME:UTC
DTSTART:20210101T000000
END:STANDARD
END:VTIMEZONE
BEGIN:VEVENT
DTSTART;TZID=UTC:20210927T090000
DTEND;TZID=UTC:20211001T120000
DTSTAMP:20260420T150640
CREATED:20190913T033613Z
LAST-MODIFIED:20210928T191706Z
UID:12651-1632733200-1633089600@slovaklegion.com
SUMMARY:Slovak Legion Thanksgiving Cabbage Roll/Perogie Orders
DESCRIPTION:  \n \nThanksgiving Cabbage Roll and Perogie Orders are being taken by The Slovak Legion Branch 129. Perfect for Thanksgiving Celebrations or just great food to share. \nPlease phone 623-3354 Ext. 1 or 2 Monday to Friday between 9:00am and noon to place orders. \nLast date to order is Friday October 1\, 2021 for pick up on Friday October 8\, 2021 between 9:00am and 1:00pm. \nPick up at the Slovak Legion at 801 Atlantic Avenue…just over the Bridge \nPerogies $6 a dozen including tax\nCabbage Rolls (Slovak with meat) $12 a dozen including tax.
URL:http://slovaklegion.com/event/slovak-legion-thanksgiving-perogie-cabbage-roll-orders-being-taken-2/
LOCATION:The Slovak Legion\, 801 Atlantic Ave\, Thunder Bay\, Ontario\, P7C 2T3\, Canada
CATEGORIES:Public
END:VEVENT
BEGIN:VEVENT
DTSTART;TZID=UTC:20210930T113000
DTEND;TZID=UTC:20210930T210000
DTSTAMP:20260420T150640
CREATED:20210928T015543Z
LAST-MODIFIED:20210928T015543Z
UID:18085-1633001400-1633035600@slovaklegion.com
SUMMARY:The Slovak Legion has REOPENED.
DESCRIPTION:Thursdays:  Our Bar opens at 4pm with the Restaurant opening at 5pm.   (Hours will be extended as needed) \nFridays 11:30am to 1:30pm:  Our famous “Slovak Legion Lunch Buffet” returns with our favourites just for you with Bar. The Bar also remains open for the rest of the day for socializing.  The Slovak Restaurant opens at 5pm on Friday. (Hours will be extended as needed) \nSaturdays :  Our Bar opens at 4pm with the Restaurant opening at 5pm. (Hours will be extended as needed) \nThe Slovak Legion is happy to welcome more of our supporters back.  We have missed you!\nPlease bring proof of COVID Vaccinations.
URL:http://slovaklegion.com/event/the-slovak-legion-has-reopened-6/
LOCATION:The Slovak Legion\, 801 Atlantic Ave\, Thunder Bay\, Ontario\, P7C 2T3\, Canada
CATEGORIES:Public
END:VEVENT
BEGIN:VEVENT
DTSTART;TZID=UTC:20210930T180000
DTEND;TZID=UTC:20210930T210000
DTSTAMP:20260420T150640
CREATED:20210928T012605Z
LAST-MODIFIED:20210928T015037Z
UID:18073-1633024800-1633035600@slovaklegion.com
SUMMARY:Slovak Legion "Catch the Ace Lottery" Thursdays
DESCRIPTION:Slovak Legion “CATCH THE ACE” Draw Thursday September 30 Progressive $2404.50\n\n\n(Our Bar is open to serve your food as well.)\n\nWith the new Ontario Stage 3 Covid Guidelines in place\, we are able to resume our “Catch the Ace” Draw. The Slovak Legion Catch The Ace Progressive Draw continues in the Bar with its Progressive Jackpot Thursday September 30. Ticket sales from 6:00 p.m. to 8:00 p.m. and draw is at 8:30 p.m. Food will be available. Licence M835456. A 50/50 Draw will also be held every Thursday Licence Number M835598. Hope to see you out!
URL:http://slovaklegion.com/event/slovak-legion-catch-the-ace-lottery-thursdays-2/
LOCATION:The Slovak Legion\, 801 Atlantic Ave\, Thunder Bay\, Ontario\, P7C 2T3\, Canada
CATEGORIES:Public
END:VEVENT
END:VCALENDAR