BEGIN:VCALENDAR
VERSION:2.0
PRODID:-//Royal Canadian Slovak Legion Branch #129 - ECPv5.15.0//NONSGML v1.0//EN
CALSCALE:GREGORIAN
METHOD:PUBLISH
X-WR-CALNAME:Royal Canadian Slovak Legion Branch #129
X-ORIGINAL-URL:http://slovaklegion.com
X-WR-CALDESC:Events for Royal Canadian Slovak Legion Branch #129
BEGIN:VTIMEZONE
TZID:UTC
BEGIN:STANDARD
TZOFFSETFROM:+0000
TZOFFSETTO:+0000
TZNAME:UTC
DTSTART:20200101T000000
END:STANDARD
END:VTIMEZONE
BEGIN:VEVENT
DTSTART;TZID=UTC:20201231T080000
DTEND;TZID=UTC:20210108T233000
DTSTAMP:20260420T020128
CREATED:20201231T185641Z
LAST-MODIFIED:20201231T185641Z
UID:17615-1609401600-1610148600@slovaklegion.com
SUMMARY:Ladies Auxiliary to Slovak Branch 129 Proudly Sponsored by SUPERIOR SHORES GAMING ASSOCIATION
DESCRIPTION:Ladies Auxiliary to Slovak Branch 129\n \nThis month we will be presenting a cheque for $5000.00 to Slovak Legion from our Superior Shores Gaming Bingo funds to be added to the Slovak Legion Roof Fund so that the Legion can continue in helping Veterans and other needy areas of the city like the new Salvation Army building on Cumberland Street. \nSuperior Shores is not having bingos now due to COVID\, and therefore our volunteers are not coming in. \nBefore the current lockdown\, the Taptics area had been open with restrictions as well as the restaurant.  Scratch tickets were available for purchase\, and the gecko machines were available for play. Due to lockdown\, we are not open at the present time. More information will be available after the 9th of January. \nWe are still earning toward our goals from the revenue above\, so please patronize the facility when it opens again. \nYours in Volunteering \nCoordinator Elvira A Dustin \nLadies Auxiliary to Slovak Branch 129 \n  \n 
URL:http://slovaklegion.com/event/ladies-auxiliary-to-slovak-branch-129-proudly-sponsored-by-superior-shores-gaming-association/
LOCATION:The Slovak Legion\, 801 Atlantic Ave\, Thunder Bay\, Ontario\, P7C 2T3\, Canada
CATEGORIES:Public
END:VEVENT
END:VCALENDAR