BEGIN:VCALENDAR
VERSION:2.0
PRODID:-//Royal Canadian Slovak Legion Branch #129 - ECPv5.15.0//NONSGML v1.0//EN
CALSCALE:GREGORIAN
METHOD:PUBLISH
X-WR-CALNAME:Royal Canadian Slovak Legion Branch #129
X-ORIGINAL-URL:http://slovaklegion.com
X-WR-CALDESC:Events for Royal Canadian Slovak Legion Branch #129
BEGIN:VTIMEZONE
TZID:UTC
BEGIN:STANDARD
TZOFFSETFROM:+0000
TZOFFSETTO:+0000
TZNAME:UTC
DTSTART:20200101T000000
END:STANDARD
END:VTIMEZONE
BEGIN:VEVENT
DTSTART;TZID=UTC:20201130T080000
DTEND;TZID=UTC:20201204T170000
DTSTAMP:20260422T090838
CREATED:20200926T030443Z
LAST-MODIFIED:20201110T162336Z
UID:17446-1606723200-1607101200@slovaklegion.com
SUMMARY:Slovak Legion Sundays Nov 15-Dec 13 Takeout Curbside Menu
DESCRIPTION:
URL:http://slovaklegion.com/event/slovak-legion-sundays-nov-15-dec-13-takeout-curbside-menu-6/
LOCATION:The Slovak Legion\, 801 Atlantic Ave\, Thunder Bay\, Ontario\, P7C 2T3\, Canada
CATEGORIES:Public
END:VEVENT
BEGIN:VEVENT
DTSTART;TZID=UTC:20201203T180000
DTEND;TZID=UTC:20201203T210000
DTSTAMP:20260422T090838
CREATED:20180924T024515Z
LAST-MODIFIED:20201202T211542Z
UID:14289-1607018400-1607029200@slovaklegion.com
SUMMARY:"Catch the Ace Lottery" at the Slovak THURSDAYS
DESCRIPTION:Let’s Catch the Ace! Thursdays at the Slovak Legion. \nSlovak Legion Bar & Restaurant is open at 5:00 p.m. \n  \n  \n  \n  \n 
URL:http://slovaklegion.com/event/catch-the-ace-lottery-is-coming-thursdays/
LOCATION:The Slovak Legion\, 801 Atlantic Ave\, Thunder Bay\, Ontario\, P7C 2T3\, Canada
CATEGORIES:Public
END:VEVENT
END:VCALENDAR