BEGIN:VCALENDAR
VERSION:2.0
PRODID:-//Royal Canadian Slovak Legion Branch #129 - ECPv5.15.0//NONSGML v1.0//EN
CALSCALE:GREGORIAN
METHOD:PUBLISH
X-WR-CALNAME:Royal Canadian Slovak Legion Branch #129
X-ORIGINAL-URL:http://slovaklegion.com
X-WR-CALDESC:Events for Royal Canadian Slovak Legion Branch #129
BEGIN:VTIMEZONE
TZID:UTC
BEGIN:STANDARD
TZOFFSETFROM:+0000
TZOFFSETTO:+0000
TZNAME:UTC
DTSTART:20200101T000000
END:STANDARD
END:VTIMEZONE
BEGIN:VEVENT
DTSTART;TZID=UTC:20200817T080000
DTEND;TZID=UTC:20200819T170000
DTSTAMP:20260420T215152
CREATED:20200817T180406Z
LAST-MODIFIED:20200817T180406Z
UID:17339-1597651200-1597856400@slovaklegion.com
SUMMARY:Thank you for the support!
DESCRIPTION:Thank you to everyone who came out to support our Sunday Spaghetti and Perogie Takeout and our wonderful volunteers who work so hard on behalf of our Legion. You are the best! \n 
URL:http://slovaklegion.com/event/thank-you-for-the-support/
LOCATION:The Slovak Legion\, 801 Atlantic Ave\, Thunder Bay\, Ontario\, P7C 2T3\, Canada
CATEGORIES:Public
END:VEVENT
END:VCALENDAR