BEGIN:VCALENDAR
VERSION:2.0
PRODID:-//Royal Canadian Slovak Legion Branch #129 - ECPv5.15.0//NONSGML v1.0//EN
CALSCALE:GREGORIAN
METHOD:PUBLISH
X-WR-CALNAME:Royal Canadian Slovak Legion Branch #129
X-ORIGINAL-URL:http://slovaklegion.com
X-WR-CALDESC:Events for Royal Canadian Slovak Legion Branch #129
BEGIN:VTIMEZONE
TZID:UTC
BEGIN:STANDARD
TZOFFSETFROM:+0000
TZOFFSETTO:+0000
TZNAME:UTC
DTSTART:20200101T000000
END:STANDARD
END:VTIMEZONE
BEGIN:VEVENT
DTSTART;TZID=UTC:20200223T173000
DTEND;TZID=UTC:20200223T200000
DTSTAMP:20260423T190107
CREATED:20200104T175926Z
LAST-MODIFIED:20200205T194233Z
UID:15982-1582479000-1582488000@slovaklegion.com
SUMMARY:Slovak Legion Charity Dabber Bingo Feb 23
DESCRIPTION:Ladies Auxiliary Slovak Legion Branch#129\nCHARITY DABBER BINGO \nSunday February 23\, 2020\nSlovak Legion\nLottery Licence#M835463 \n15 Games ($20) and Short Intermission \nDoors Open @ 5:30pm\nGames Start at 6pm \nSlovak Legion Hall\n801 Atlantic Avenue\nThunder Bay \n50/50 Draw\nLottery Licence#M835463 \nFood (including fries)\, beverages (including alcohol & pop) will be sold \nThank you for your support!
URL:http://slovaklegion.com/event/slovak-legion-charity-dabber-bingo-february-23/
LOCATION:The Slovak Legion\, 801 Atlantic Ave\, Thunder Bay\, Ontario\, P7C 2T3\, Canada
CATEGORIES:Public
END:VEVENT
END:VCALENDAR